View In:
ArcGIS JavaScript
ArcGIS Online Map Viewer
ArcGIS Earth
ArcMap
View Footprint In:
ArcGIS Online Map Viewer
Service Description: External/AdaOrthos2025_6in
Name: External/AdaOrthos2025_6in
Description:
Single Fused Map Cache: false
Extent:
XMin: 2421899.933036059
YMin: 569550.1176982783
XMax: 2581099.933036059
YMax: 786100.1176982783
Spatial Reference: PROJCS["Ada_County_NAD_83_TM",GEOGCS["GCS_North_American_1983",DATUM["D_North_American_1983",SPHEROID["GRS_1980",6378137.0,298.257222101]],PRIMEM["Greenwich",0.0],UNIT["Degree",0.0174532925199433]],PROJECTION["Transverse_Mercator"],PARAMETER["False_Easting",2625138.996430666],PARAMETER["False_Northing",0.0],PARAMETER["Central_Meridian",-115.75],PARAMETER["Scale_Factor",1.00011328],PARAMETER["Latitude_Of_Origin",41.66666666666666],UNIT["Foot_US",0.3048006096012192]]
Initial Extent:
XMin: 2421899.933036059
YMin: 569550.1176982783
XMax: 2581099.933036059
YMax: 786100.1176982783
Spatial Reference: PROJCS["Ada_County_NAD_83_TM",GEOGCS["GCS_North_American_1983",DATUM["D_North_American_1983",SPHEROID["GRS_1980",6378137.0,298.257222101]],PRIMEM["Greenwich",0.0],UNIT["Degree",0.0174532925199433]],PROJECTION["Transverse_Mercator"],PARAMETER["False_Easting",2625138.996430666],PARAMETER["False_Northing",0.0],PARAMETER["Central_Meridian",-115.75],PARAMETER["Scale_Factor",1.00011328],PARAMETER["Latitude_Of_Origin",41.66666666666666],UNIT["Foot_US",0.3048006096012192]]
Full Extent:
XMin: 2421899.933036059
YMin: 569550.1176982783
XMax: 2581099.933036059
YMax: 786100.1176982783
Spatial Reference: PROJCS["Ada_County_NAD_83_TM",GEOGCS["GCS_North_American_1983",DATUM["D_North_American_1983",SPHEROID["GRS_1980",6378137.0,298.257222101]],PRIMEM["Greenwich",0.0],UNIT["Degree",0.0174532925199433]],PROJECTION["Transverse_Mercator"],PARAMETER["False_Easting",2625138.996430666],PARAMETER["False_Northing",0.0],PARAMETER["Central_Meridian",-115.75],PARAMETER["Scale_Factor",1.00011328],PARAMETER["Latitude_Of_Origin",41.66666666666666],UNIT["Foot_US",0.3048006096012192]]
Pixel Size X: 0.5
Pixel Size Y: 0.5
Band Count: 3
Pixel Type: U8
RasterFunction Infos: {"rasterFunctionInfos": [{
"name": "None",
"description": "",
"help": ""
}]}
Mensuration Capabilities: Basic
Has Histograms: true
Has Colormap: false
Has Multi Dimensions : false
Rendering Rule:
Min Scale: 0
Max Scale: 0
Copyright Text:
Service Data Type: esriImageServiceDataTypeRGB
Min Values: 0, 2, 0
Max Values: 247, 247, 247
Mean Values: 105.20776133518939, 110.06326143902352, 102.4226293365547
Standard Deviation Values: 27.079301339317947, 23.787310169112434, 20.954213270267
Object ID Field:
Fields:
None
Default Mosaic Method: Center
Allowed Mosaic Methods:
SortField:
SortValue: null
Mosaic Operator: First
Default Compression Quality: 75
Default Resampling Method: Bilinear
Max Record Count: null
Max Image Height: 4100
Max Image Width: 15000
Max Download Image Count: null
Max Mosaic Image Count: null
Allow Raster Function: true
Allow Compute TiePoints: false
Supports Statistics: false
Supports Advanced Queries: false
Use StandardizedQueries: true
Raster Type Infos:
Name: Raster Dataset
Description: Supports all ArcGIS Raster Datasets
Help:
Has Raster Attribute Table: false
Edit Fields Info: null
Ownership Based AccessControl For Rasters: null
Child Resources:
Info
Histograms
Key Properties
Legend
MultiDimensionalInfo
rasterFunctionInfos
Supported Operations:
Export Image
Identify
Measure
Compute Histograms
Compute Statistics Histograms
Get Samples
Compute Class Statistics
Query Boundary